BEGIN:VCALENDAR
PRODID:-//SmartSource Solutions, LLC//NONSGML Kentico CMS//EN
VERSION:12.0
BEGIN:VEVENT
UID:9c6e558d-4e61-44de-9244-2f8a30ac4b1a@www.fncu.org
DTSTAMP:20260424T172419Z
DTSTART:20260505T173000Z
DTEND:20260505T183000Z
DESCRIPTION:Buying a home is one of the biggest financial decisions you’ll ever make—and preparation is key. This session focuses on helping you understand what it takes to be ready for homeownership, from assessing your financial situation to navigating the pre-purchase process. You’ll gain the tools and knowledge you need to confidently take your first steps toward owning a home.By the end of this webinar, participants will be able to:Assess their financial readiness for buying a home, including credit, debt, and savingsUnderstand the importance of budgeting for upfront and ongoing homeownership costsExplain key steps in the pre-purchase processIdentify potential obstacles (like credit issues or debt) and steps to address themCreate a personal action plan to prepare for homeownership with confidenceMay 5th | 12:30pm (centra)\nMay 14th | 4:00pm (central)REGISTER\n\n
SUMMARY:May - Becoming a Homeowner: Preparing for Home Ownership - Part 1
PRIORITY:3
BEGIN:VALARM
TRIGGER:P0DT0H15M
ACTION:DISPLAY
DESCRIPTION:Reminder
END:VALARM
END:VEVENT
END:VCALENDAR
