BEGIN:VCALENDAR
PRODID:-//SmartSource Solutions, LLC//NONSGML Kentico CMS//EN
VERSION:12.0
BEGIN:VEVENT
UID:585b44c1-69d0-4849-8f08-1fe3bc7f61e6@www.fncu.org
DTSTAMP:20260425T035837Z
DTSTART:20261110T183000Z
DTEND:20261110T193000Z
DESCRIPTION:Caring for both children and aging loved ones can strain time, finances, and emotional wellbeing. This workshop helps multigenerational caregivers understand competing financial demands, plan proactively, and access resources. Participants learn strategies to reduce stress, set boundaries, and support stability for themselves and their families.By the end of this session, participants will be able to:Identify the financial challenges unique to multigenerational caregiving.Understand competing financial priorities and how to plan for them proactively.Apply strategies to reduce financial and emotional stress while setting healthy boundaries.Identify resources and tools that support long-term stability for caregivers and families.November 10th | 12:30pm central\nNovember 19th | 4:00pm centralREGISTER\n\n
SUMMARY:November - The Sandwich Generation: Strategies for Multigenerational Caregivers
PRIORITY:3
BEGIN:VALARM
TRIGGER:P0DT0H15M
ACTION:DISPLAY
DESCRIPTION:Reminder
END:VALARM
END:VEVENT
END:VCALENDAR
