BEGIN:VCALENDAR
PRODID:-//SmartSource Solutions, LLC//NONSGML Kentico CMS//EN
VERSION:12.0
BEGIN:VEVENT
UID:857e83a5-af30-4e9d-aea0-92c3ae209e45@www.fncu.org
DTSTAMP:20260425T121645Z
DTSTART:20261201T183000Z
DTEND:20261201T193000Z
DESCRIPTION:Scammers are especially active during busy and high-spending times of year. This engaging workshop helps participants recognize common seasonal scams, understand red flags, and protect themselves during the holidays. Through real-world examples and practical prevention tools, participants learn how to stay alert, avoid fraud, and enjoy the season with greater peace of mind. By the end of this session, participants will be able to: Identify common seasonal and holiday-related scams. Recognize warning signs and red flags associated with fraud. Apply practical strategies to protect personal and financial information. Respond appropriately if they suspect or experience a scam. December 1st | 12:30pm central\nDecemer 10th | 4:00pm centralREGISTER\n\n
SUMMARY:December - Unwrapping Holiday Scam Season
PRIORITY:3
BEGIN:VALARM
TRIGGER:P0DT0H15M
ACTION:DISPLAY
DESCRIPTION:Reminder
END:VALARM
END:VEVENT
END:VCALENDAR
