BEGIN:VCALENDAR
PRODID:-//SmartSource Solutions, LLC//NONSGML Kentico CMS//EN
VERSION:12.0
BEGIN:VEVENT
UID:995de426-3d7f-49b3-9a0d-cd42a6f76946@www.fncu.org
DTSTAMP:20260424T205150Z
DTSTART:20260617T170000Z
DTEND:20260617T180000Z
LOCATION:541 North Fairbanks Court
20th Floor, Suite 2000
Chicago, IL

DESCRIPTION:Attend our Free, No-Obligation, In-Person Workshop "A Smarter Approach to Vehicle Buying" in Streeterville on Wednesday, June 17th from 12:00pm to 1:00pm.Our own local experts will be sharing their expertise to help you:Find the right vehicle while staying within your budget at local dealershipsBuild a monthly payment that fits comfortably into your financesLearn when refinancing your current auto loan may be beneficial and how to evaluate your options... and more!We’re here to help you get answers, so bring your own questions and get answers from our experts.There’s no pressure, no obligation, and no cost!Everyone is welcome! Bring a friend and learn about buying an auto in 2026.Light refreshments will be served. Seating is limited.REGISTERBy attending this event, you understand that you may be photographed for our social media purposes. \n\n541 North Fairbanks Court\n20th Floor, Suite 2000\nChicago, IL
SUMMARY:Streeterville - A Smarter Approach to Vehicle Buying
PRIORITY:3
BEGIN:VALARM
TRIGGER:P0DT0H15M
ACTION:DISPLAY
DESCRIPTION:Reminder
END:VALARM
END:VEVENT
END:VCALENDAR
